BEGIN:VCALENDAR
VERSION:2.0
PRODID:-//ChamberMaster//Event Calendar 2.0//EN
METHOD:PUBLISH
X-PUBLISHED-TTL:P3D
REFRESH-INTERVAL:P3D
CALSCALE:GREGORIAN
BEGIN:VEVENT
DTSTART:20310803T170000Z
DTEND:20310803T170000Z
X-MICROSOFT-CDO-ALLDAYEVENT:FALSE
SUMMARY:Drayton Harbor Maritime Festival 2023
DESCRIPTION:Street Fair & Maritime Celebration \n\nA weekend packed with fun for the entire family!\n\n\n\nA two day weekend event packed with kids games\, crafts\, scavenger hunt\, the "Prestigious George Raft Race"\, pirate costume judging contest\, arts\, crafts & food vendors\, vintage steam boats and much more!
X-ALT-DESC;FMTTYPE=text/html:<p><strong>Street Fair &amp\; Maritime Celebration&nbsp\;</strong><br />\nA weekend packed with fun for the entire family!<br />\n<br />\nA two day weekend event packed with kids games\, crafts\, scavenger hunt\, the &ldquo\;Prestigious George Raft Race&rdquo\;\, pirate costume judging contest\, arts\, crafts &amp\; food vendors\, vintage steam boats and much more!</p>\n
LOCATION:Blaine Boating Center 235 Marine Drive Blaine\, WA
UID:e.3529.612
SEQUENCE:3
DTSTAMP:20260421T231511Z
URL:https://www.blainechamber.com/events/details/drayton-harbor-maritime-festival-and-tall-ships-08-03-2031-612
END:VEVENT

END:VCALENDAR
