BEGIN:VCALENDAR
VERSION:2.0
PRODID:-//ChamberMaster//Event Calendar 2.0//EN
METHOD:PUBLISH
X-PUBLISHED-TTL:P3D
REFRESH-INTERVAL:P3D
CALSCALE:GREGORIAN
BEGIN:VEVENT
DTSTART:20250619T230000Z
DTEND:20250620T003000Z
X-MICROSOFT-CDO-ALLDAYEVENT:FALSE
SUMMARY:Networking Happy Hour!
DESCRIPTION:Join us for the Chamber Happy Hour BINGO NIGHT!  This is a casual gathering to connect with fellow business owners and community members.  Come enjoy delicious drinks and appetizers!  Purchase your Bingo Card at the event for $5 each for your chance to win prizes provided by Aloha Cafe.  All proceeds will go towards the Blaine Chamber.
X-ALT-DESC;FMTTYPE=text/html:Join us for the Chamber Happy Hour BINGO NIGHT!&nbsp\; This is a casual gathering to connect with fellow business owners and community members.&nbsp\; Come enjoy delicious drinks and appetizers!&nbsp\; Purchase your Bingo Card at the event for $5 each for your chance to win prizes provided by Aloha Cafe.&nbsp\; All proceeds will go towards the Blaine Chamber.
LOCATION:Aloha Cafe
UID:e.3529.2614
SEQUENCE:3
DTSTAMP:20260421T105858Z
URL:https://www.blainechamber.com/events/details/networking-happy-hour-06-19-2025-2614
END:VEVENT

END:VCALENDAR
