BEGIN:VCALENDAR
VERSION:2.0
PRODID:-//ChamberMaster//Event Calendar 2.0//EN
METHOD:PUBLISH
X-PUBLISHED-TTL:P3D
REFRESH-INTERVAL:P3D
CALSCALE:GREGORIAN
BEGIN:VEVENT
DTSTART;VALUE=DATE:20310704
DTEND;VALUE=DATE:20310705
TRANSP:TRANSPARENT
X-MICROSOFT-CDO-ALLDAYEVENT:TRUE
SUMMARY:Old Fashioned 4th of July Celebration
DESCRIPTION:Downtown Blaine & Blaine Harbor\n\n \nCome spend the day celebrating the 4th of July in Blaine. Visit our Farmers Market for a variety of vendors with unique items and grab lunch at one of our delightful local downtown restaurants.  Then enjoy the evening watching the fireworks light up the sky over Semiahmoo Bay!
X-ALT-DESC;FMTTYPE=text/html:<div style="text-align: center\;"><span style="font-size:20px\;"><strong>Downtown Blaine &amp\; Blaine Harbor</strong></span><br />\n&nbsp\;</div>\n<span style="font-size:16px\;">Come spend the day celebrating the 4th of July in Blaine. Visit our Farmers Market for a variety of vendors with unique items and grab lunch at one of our delightful local downtown restaurants.&nbsp\; Then enjoy the evening watching the fireworks light up the sky over Semiahmoo Bay!</span>
LOCATION:
UID:e.3529.542
SEQUENCE:3
DTSTAMP:20260421T213456Z
URL:https://www.blainechamber.com/events/details/old-fashioned-4th-celebration-07-04-2031-542
END:VEVENT

END:VCALENDAR
